BEGIN:VCALENDAR
VERSION:2.0
PRODID:-//Mountain Vista Greens Golf Course - ECPv4.4.4//NONSGML v1.0//EN
CALSCALE:GREGORIAN
METHOD:PUBLISH
X-WR-CALNAME:Mountain Vista Greens Golf Course
X-ORIGINAL-URL:http://www.adamdiel.com/mvg
X-WR-CALDESC:Events for Mountain Vista Greens Golf Course
BEGIN:VEVENT
DTSTART;TZID=UTC+0:20190602T140000
DTEND;TZID=UTC+0:20190602T170000
DTSTAMP:20260423T193548
CREATED:20190429T012712Z
LAST-MODIFIED:20190429T012725Z
UID:3215-1559484000-1559494800@www.adamdiel.com
SUMMARY:West Pres. Church
DESCRIPTION:24 players\, 9 holes
URL:http://www.adamdiel.com/mvg/event/west-pres-church/
CATEGORIES:Tournament
END:VEVENT
END:VCALENDAR