BEGIN:VCALENDAR
VERSION:2.0
PRODID:-//Mountain Vista Greens Golf Course - ECPv4.4.4//NONSGML v1.0//EN
CALSCALE:GREGORIAN
METHOD:PUBLISH
X-WR-CALNAME:Mountain Vista Greens Golf Course
X-ORIGINAL-URL:http://www.adamdiel.com/mvg
X-WR-CALDESC:Events for Mountain Vista Greens Golf Course
BEGIN:VEVENT
DTSTART;TZID=UTC+0:20180804T080000
DTEND;TZID=UTC+0:20180804T110000
DTSTAMP:20260424T004628
CREATED:20180310T162040Z
LAST-MODIFIED:20180322T205946Z
UID:2572-1533369600-1533380400@www.adamdiel.com
SUMMARY:VFW
DESCRIPTION:68 players\, 9 holes
URL:http://www.adamdiel.com/mvg/event/vfw-3/
CATEGORIES:Tournament
END:VEVENT
END:VCALENDAR