BEGIN:VCALENDAR
VERSION:2.0
PRODID:-//Mountain Vista Greens Golf Course - ECPv4.4.4//NONSGML v1.0//EN
CALSCALE:GREGORIAN
METHOD:PUBLISH
X-WR-CALNAME:Mountain Vista Greens Golf Course
X-ORIGINAL-URL:http://www.adamdiel.com/mvg
X-WR-CALDESC:Events for Mountain Vista Greens Golf Course
BEGIN:VEVENT
DTSTART;TZID=UTC+0:20190601T080000
DTEND;TZID=UTC+0:20190601T110000
DTSTAMP:20260423T183806
CREATED:20190205T190445Z
LAST-MODIFIED:20190205T190453Z
UID:3145-1559376000-1559386800@www.adamdiel.com
SUMMARY:Terri Coomer Tourney
DESCRIPTION:70 players\, 9 holes
URL:http://www.adamdiel.com/mvg/event/terri-coomer-tourney/
CATEGORIES:Tournament
END:VEVENT
END:VCALENDAR