BEGIN:VCALENDAR
VERSION:2.0
PRODID:-//Mountain Vista Greens Golf Course - ECPv4.4.4//NONSGML v1.0//EN
CALSCALE:GREGORIAN
METHOD:PUBLISH
X-WR-CALNAME:Mountain Vista Greens Golf Course
X-ORIGINAL-URL:http://www.adamdiel.com/mvg
X-WR-CALDESC:Events for Mountain Vista Greens Golf Course
BEGIN:VEVENT
DTSTART;TZID=UTC+0:20180602T080000
DTEND;TZID=UTC+0:20180602T110000
DTSTAMP:20260424T200854
CREATED:20180310T161420Z
LAST-MODIFIED:20180310T161420Z
UID:2562-1527926400-1527937200@www.adamdiel.com
SUMMARY:Terri Coomer Fundraiser
DESCRIPTION:48 players\, 9 holes
URL:http://www.adamdiel.com/mvg/event/terri-coomer-fundraiser-2/
CATEGORIES:Tournament
END:VEVENT
END:VCALENDAR