BEGIN:VCALENDAR
VERSION:2.0
PRODID:-//Mountain Vista Greens Golf Course - ECPv4.4.4//NONSGML v1.0//EN
CALSCALE:GREGORIAN
METHOD:PUBLISH
X-WR-CALNAME:Mountain Vista Greens Golf Course
X-ORIGINAL-URL:http://www.adamdiel.com/mvg
X-WR-CALDESC:Events for Mountain Vista Greens Golf Course
BEGIN:VEVENT
DTSTART;TZID=UTC+0:20190821T090000
DTEND;TZID=UTC+0:20190821T230000
DTSTAMP:20260423T105749
CREATED:20190713T022843Z
LAST-MODIFIED:20190713T022843Z
UID:3476-1566378000-1566428400@www.adamdiel.com
SUMMARY:Sunflower Final
DESCRIPTION:
URL:http://www.adamdiel.com/mvg/event/sunflower-final/
CATEGORIES:Tournament
END:VEVENT
END:VCALENDAR