BEGIN:VCALENDAR
VERSION:2.0
PRODID:-//Mountain Vista Greens Golf Course - ECPv4.4.4//NONSGML v1.0//EN
CALSCALE:GREGORIAN
METHOD:PUBLISH
X-WR-CALNAME:Mountain Vista Greens Golf Course
X-ORIGINAL-URL:http://www.adamdiel.com/mvg
X-WR-CALDESC:Events for Mountain Vista Greens Golf Course
BEGIN:VEVENT
DTSTART;TZID=UTC+0:20200912T080000
DTEND;TZID=UTC+0:20200912T113000
DTSTAMP:20260422T004003
CREATED:20200125T011418Z
LAST-MODIFIED:20200125T011418Z
UID:3705-1599897600-1599910200@www.adamdiel.com
SUMMARY:Raintree
DESCRIPTION:40 players\, 9 holes
URL:http://www.adamdiel.com/mvg/event/raintree/
CATEGORIES:Tournament
END:VEVENT
END:VCALENDAR