BEGIN:VCALENDAR
VERSION:2.0
PRODID:-//Mountain Vista Greens Golf Course - ECPv4.4.4//NONSGML v1.0//EN
CALSCALE:GREGORIAN
METHOD:PUBLISH
X-WR-CALNAME:Mountain Vista Greens Golf Course
X-ORIGINAL-URL:http://www.adamdiel.com/mvg
X-WR-CALDESC:Events for Mountain Vista Greens Golf Course
BEGIN:VEVENT
DTSTART;TZID=UTC+0:20190914T080000
DTEND;TZID=UTC+0:20190914T110000
DTSTAMP:20260423T002144
CREATED:20190417T155624Z
LAST-MODIFIED:20190417T204035Z
UID:3206-1568448000-1568458800@www.adamdiel.com
SUMMARY:Raintree Athletics
DESCRIPTION:40 players\, 9 holes
URL:http://www.adamdiel.com/mvg/event/raintree-athletics/
CATEGORIES:Tournament
END:VEVENT
END:VCALENDAR