BEGIN:VCALENDAR
VERSION:2.0
PRODID:-//Mountain Vista Greens Golf Course - ECPv4.4.4//NONSGML v1.0//EN
CALSCALE:GREGORIAN
METHOD:PUBLISH
X-WR-CALNAME:Mountain Vista Greens Golf Course
X-ORIGINAL-URL:http://www.adamdiel.com/mvg
X-WR-CALDESC:Events for Mountain Vista Greens Golf Course
BEGIN:VEVENT
DTSTART;TZID=UTC+0:20190921T080000
DTEND;TZID=UTC+0:20190921T120000
DTSTAMP:20260422T182916
CREATED:20190205T192814Z
LAST-MODIFIED:20190205T192820Z
UID:3167-1569052800-1569067200@www.adamdiel.com
SUMMARY:Peace with Christ
DESCRIPTION:60 players\, 9 holes
URL:http://www.adamdiel.com/mvg/event/peace-with-christ-3/
CATEGORIES:Tournament
END:VEVENT
END:VCALENDAR