BEGIN:VCALENDAR
VERSION:2.0
PRODID:-//Mountain Vista Greens Golf Course - ECPv4.4.4//NONSGML v1.0//EN
CALSCALE:GREGORIAN
METHOD:PUBLISH
X-WR-CALNAME:Mountain Vista Greens Golf Course
X-ORIGINAL-URL:http://www.adamdiel.com/mvg
X-WR-CALDESC:Events for Mountain Vista Greens Golf Course
BEGIN:VEVENT
DTSTART;TZID=UTC+0:20210507T160000
DTEND;TZID=UTC+0:20210507T190000
DTSTAMP:20260421T164350
CREATED:20210114T182811Z
LAST-MODIFIED:20210114T182811Z
UID:4261-1620403200-1620414000@www.adamdiel.com
SUMMARY:One Man Scramble
DESCRIPTION:72 people 9 holes
URL:http://www.adamdiel.com/mvg/event/one-man-scramble/
CATEGORIES:Tournament
END:VEVENT
END:VCALENDAR