BEGIN:VCALENDAR
VERSION:2.0
PRODID:-//Mountain Vista Greens Golf Course - ECPv4.4.4//NONSGML v1.0//EN
CALSCALE:GREGORIAN
METHOD:PUBLISH
X-WR-CALNAME:Mountain Vista Greens Golf Course
X-ORIGINAL-URL:http://www.adamdiel.com/mvg
X-WR-CALDESC:Events for Mountain Vista Greens Golf Course
BEGIN:VEVENT
DTSTART;TZID=UTC+0:20210627T140000
DTEND;TZID=UTC+0:20210627T180000
DTSTAMP:20260421T200549
CREATED:20210508T144552Z
LAST-MODIFIED:20210508T144610Z
UID:4332-1624802400-1624816800@www.adamdiel.com
SUMMARY:OGA
DESCRIPTION:36 players\, 9 holes
URL:http://www.adamdiel.com/mvg/event/oga/
CATEGORIES:Tournament
END:VEVENT
END:VCALENDAR