BEGIN:VCALENDAR
VERSION:2.0
PRODID:-//Mountain Vista Greens Golf Course - ECPv4.4.4//NONSGML v1.0//EN
CALSCALE:GREGORIAN
METHOD:PUBLISH
X-WR-CALNAME:Mountain Vista Greens Golf Course
X-ORIGINAL-URL:http://www.adamdiel.com/mvg
X-WR-CALDESC:Events for Mountain Vista Greens Golf Course
BEGIN:VEVENT
DTSTART;TZID=UTC+0:20210418T140000
DTEND;TZID=UTC+0:20210418T170000
DTSTAMP:20260421T183913
CREATED:20210326T232710Z
LAST-MODIFIED:20210326T232926Z
UID:4282-1618754400-1618765200@www.adamdiel.com
SUMMARY:Nu Alpha Kappa
DESCRIPTION:9 holes 36 players
URL:http://www.adamdiel.com/mvg/event/nu-alpha-kappa/
CATEGORIES:Tournament
END:VEVENT
END:VCALENDAR