BEGIN:VCALENDAR
VERSION:2.0
PRODID:-//Mountain Vista Greens Golf Course - ECPv4.4.4//NONSGML v1.0//EN
CALSCALE:GREGORIAN
METHOD:PUBLISH
X-WR-CALNAME:Mountain Vista Greens Golf Course
X-ORIGINAL-URL:http://www.adamdiel.com/mvg
X-WR-CALDESC:Events for Mountain Vista Greens Golf Course
BEGIN:VEVENT
DTSTART;TZID=UTC+0:20180623T080000
DTEND;TZID=UTC+0:20180623T130000
DTSTAMP:20260424T123611
CREATED:20180310T161805Z
LAST-MODIFIED:20180407T195644Z
UID:2568-1529740800-1529758800@www.adamdiel.com
SUMMARY:MVG Tourney
DESCRIPTION:18 holes
URL:http://www.adamdiel.com/mvg/event/mvg-tourney/
CATEGORIES:Tournament
END:VEVENT
END:VCALENDAR