BEGIN:VCALENDAR
VERSION:2.0
PRODID:-//Mountain Vista Greens Golf Course - ECPv4.4.4//NONSGML v1.0//EN
CALSCALE:GREGORIAN
METHOD:PUBLISH
X-WR-CALNAME:Mountain Vista Greens Golf Course
X-ORIGINAL-URL:http://www.adamdiel.com/mvg
X-WR-CALDESC:Events for Mountain Vista Greens Golf Course
BEGIN:VEVENT
DTSTART;TZID=UTC+0:20190503T153000
DTEND;TZID=UTC+0:20190503T200000
DTSTAMP:20260423T191938
CREATED:20190205T190007Z
LAST-MODIFIED:20190426T171812Z
UID:3139-1556897400-1556913600@www.adamdiel.com
SUMMARY:MVG Tourney
DESCRIPTION:72 players\, 9 holes
URL:http://www.adamdiel.com/mvg/event/mvg-tourney-4/
CATEGORIES:Tournament
END:VEVENT
END:VCALENDAR