BEGIN:VCALENDAR
VERSION:2.0
PRODID:-//Mountain Vista Greens Golf Course - ECPv4.4.4//NONSGML v1.0//EN
CALSCALE:GREGORIAN
METHOD:PUBLISH
X-WR-CALNAME:Mountain Vista Greens Golf Course
X-ORIGINAL-URL:http://www.adamdiel.com/mvg
X-WR-CALDESC:Events for Mountain Vista Greens Golf Course
BEGIN:VEVENT
DTSTART;TZID=UTC+0:20210619T073000
DTEND;TZID=UTC+0:20210619T130000
DTSTAMP:20260421T155941
CREATED:20210326T233656Z
LAST-MODIFIED:20210326T233729Z
UID:4293-1624087800-1624107600@www.adamdiel.com
SUMMARY:MVG Double Play
DESCRIPTION:72 players\, 18 holes
URL:http://www.adamdiel.com/mvg/event/mvg-double-play-2/
CATEGORIES:Tournament
END:VEVENT
END:VCALENDAR