BEGIN:VCALENDAR
VERSION:2.0
PRODID:-//Mountain Vista Greens Golf Course - ECPv4.4.4//NONSGML v1.0//EN
CALSCALE:GREGORIAN
METHOD:PUBLISH
X-WR-CALNAME:Mountain Vista Greens Golf Course
X-ORIGINAL-URL:http://www.adamdiel.com/mvg
X-WR-CALDESC:Events for Mountain Vista Greens Golf Course
BEGIN:VEVENT
DTSTART;TZID=UTC+0:20200613T100000
DTEND;TZID=UTC+0:20200613T140000
DTSTAMP:20260422T091430
CREATED:20200605T154244Z
LAST-MODIFIED:20200605T154244Z
UID:3918-1592042400-1592056800@www.adamdiel.com
SUMMARY:Mizuno Demo Day 10-2
DESCRIPTION:By appointment only.
URL:http://www.adamdiel.com/mvg/event/mizuno-demo-day-10-2/
CATEGORIES:Events,Tournament
END:VEVENT
END:VCALENDAR