BEGIN:VCALENDAR
VERSION:2.0
PRODID:-//Mountain Vista Greens Golf Course - ECPv4.4.4//NONSGML v1.0//EN
CALSCALE:GREGORIAN
METHOD:PUBLISH
X-WR-CALNAME:Mountain Vista Greens Golf Course
X-ORIGINAL-URL:http://www.adamdiel.com/mvg
X-WR-CALDESC:Events for Mountain Vista Greens Golf Course
BEGIN:VEVENT
DTSTART;TZID=UTC+0:20190824T080000
DTEND;TZID=UTC+0:20190824T120000
DTSTAMP:20260423T065108
CREATED:20190205T192504Z
LAST-MODIFIED:20190205T192511Z
UID:3163-1566633600-1566648000@www.adamdiel.com
SUMMARY:Mawson Lumber
DESCRIPTION:72 players 9 holes
URL:http://www.adamdiel.com/mvg/event/mawson-lumber-4/
CATEGORIES:Tournament
END:VEVENT
END:VCALENDAR