BEGIN:VCALENDAR
VERSION:2.0
PRODID:-//Mountain Vista Greens Golf Course - ECPv4.4.4//NONSGML v1.0//EN
CALSCALE:GREGORIAN
METHOD:PUBLISH
X-WR-CALNAME:Mountain Vista Greens Golf Course
X-ORIGINAL-URL:http://www.adamdiel.com/mvg
X-WR-CALDESC:Events for Mountain Vista Greens Golf Course
BEGIN:VEVENT
DTSTART;TZID=UTC+0:20190504T080000
DTEND;TZID=UTC+0:20190504T110000
DTSTAMP:20260423T162343
CREATED:20190205T190118Z
LAST-MODIFIED:20190205T190227Z
UID:3141-1556956800-1556967600@www.adamdiel.com
SUMMARY:Ladies League Tourney
DESCRIPTION:Shotgun
URL:http://www.adamdiel.com/mvg/event/ladies-league-tourney/
CATEGORIES:Tournament
END:VEVENT
END:VCALENDAR