BEGIN:VCALENDAR
VERSION:2.0
PRODID:-//Mountain Vista Greens Golf Course - ECPv4.4.4//NONSGML v1.0//EN
CALSCALE:GREGORIAN
METHOD:PUBLISH
X-WR-CALNAME:Mountain Vista Greens Golf Course
X-ORIGINAL-URL:http://www.adamdiel.com/mvg
X-WR-CALDESC:Events for Mountain Vista Greens Golf Course
BEGIN:VEVENT
DTSTART;TZID=UTC+0:20210605T073000
DTEND;TZID=UTC+0:20210605T103000
DTSTAMP:20260421T113201
CREATED:20210326T233353Z
LAST-MODIFIED:20210326T233410Z
UID:4289-1622878200-1622889000@www.adamdiel.com
SUMMARY:Jamie J's
DESCRIPTION:72 players\, 9 holes
URL:http://www.adamdiel.com/mvg/event/jamie-js/
CATEGORIES:Tournament
END:VEVENT
END:VCALENDAR