BEGIN:VCALENDAR
VERSION:2.0
PRODID:-//Mountain Vista Greens Golf Course - ECPv4.4.4//NONSGML v1.0//EN
CALSCALE:GREGORIAN
METHOD:PUBLISH
X-WR-CALNAME:Mountain Vista Greens Golf Course
X-ORIGINAL-URL:http://www.adamdiel.com/mvg
X-WR-CALDESC:Events for Mountain Vista Greens Golf Course
BEGIN:VEVENT
DTSTART;TZID=UTC+0:20210914T160000
DTEND;TZID=UTC+0:20210914T190000
DTSTAMP:20260422T054842
CREATED:20210326T234724Z
LAST-MODIFIED:20210326T234724Z
UID:4301-1631635200-1631646000@www.adamdiel.com
SUMMARY:Horse Race
DESCRIPTION:48 players 9 holes
URL:http://www.adamdiel.com/mvg/event/horse-race-2/
CATEGORIES:Tournament
END:VEVENT
END:VCALENDAR