BEGIN:VCALENDAR
VERSION:2.0
PRODID:-//Mountain Vista Greens Golf Course - ECPv4.4.4//NONSGML v1.0//EN
CALSCALE:GREGORIAN
METHOD:PUBLISH
X-WR-CALNAME:Mountain Vista Greens Golf Course
X-ORIGINAL-URL:http://www.adamdiel.com/mvg
X-WR-CALDESC:Events for Mountain Vista Greens Golf Course
BEGIN:VEVENT
DTSTART;TZID=UTC+0:20190914T170000
DTEND;TZID=UTC+0:20190914T233000
DTSTAMP:20260422T224920
CREATED:20190713T023201Z
LAST-MODIFIED:20190713T023253Z
UID:3480-1568480400-1568503800@www.adamdiel.com
SUMMARY:Glowball
DESCRIPTION:44 players\, 18 holes
URL:http://www.adamdiel.com/mvg/event/glowball-2/
CATEGORIES:Tournament
END:VEVENT
END:VCALENDAR