BEGIN:VCALENDAR
VERSION:2.0
PRODID:-//Mountain Vista Greens Golf Course - ECPv4.4.4//NONSGML v1.0//EN
CALSCALE:GREGORIAN
METHOD:PUBLISH
X-WR-CALNAME:Mountain Vista Greens Golf Course
X-ORIGINAL-URL:http://www.adamdiel.com/mvg
X-WR-CALDESC:Events for Mountain Vista Greens Golf Course
BEGIN:VEVENT
DTSTART;TZID=UTC+0:20190622T200000
DTEND;TZID=UTC+0:20190622T233000
DTSTAMP:20260423T132854
CREATED:20190212T002910Z
LAST-MODIFIED:20190212T002952Z
UID:3169-1561233600-1561246200@www.adamdiel.com
SUMMARY:Glow Ball
DESCRIPTION:36 players\, 9 holes.
URL:http://www.adamdiel.com/mvg/event/glow-ball-3/
CATEGORIES:Tournament
END:VEVENT
END:VCALENDAR