BEGIN:VCALENDAR
VERSION:2.0
PRODID:-//Mountain Vista Greens Golf Course - ECPv4.4.4//NONSGML v1.0//EN
CALSCALE:GREGORIAN
METHOD:PUBLISH
X-WR-CALNAME:Mountain Vista Greens Golf Course
X-ORIGINAL-URL:http://www.adamdiel.com/mvg
X-WR-CALDESC:Events for Mountain Vista Greens Golf Course
BEGIN:VEVENT
DTSTART;TZID=UTC+0:20191012T080000
DTEND;TZID=UTC+0:20191012T170000
DTSTAMP:20260422T123123
CREATED:20190713T024834Z
LAST-MODIFIED:20190713T024834Z
UID:3486-1570867200-1570899600@www.adamdiel.com
SUMMARY:Frisbee Golf
DESCRIPTION:
URL:http://www.adamdiel.com/mvg/event/frisbee-golf/
CATEGORIES:Tournament
END:VEVENT
END:VCALENDAR