BEGIN:VCALENDAR
VERSION:2.0
PRODID:-//Mountain Vista Greens Golf Course - ECPv4.4.4//NONSGML v1.0//EN
CALSCALE:GREGORIAN
METHOD:PUBLISH
X-WR-CALNAME:Mountain Vista Greens Golf Course
X-ORIGINAL-URL:http://www.adamdiel.com/mvg
X-WR-CALDESC:Events for Mountain Vista Greens Golf Course
BEGIN:VEVENT
DTSTART;TZID=UTC+0:20190901T100000
DTEND;TZID=UTC+0:20190901T130000
DTSTAMP:20260423T034044
CREATED:20190606T215727Z
LAST-MODIFIED:20190606T215742Z
UID:3343-1567332000-1567342800@www.adamdiel.com
SUMMARY:Evan Hyatt
DESCRIPTION:30 players\, 9 holes
URL:http://www.adamdiel.com/mvg/event/evan-hyatt/
CATEGORIES:Tournament
END:VEVENT
END:VCALENDAR