BEGIN:VCALENDAR
VERSION:2.0
PRODID:-//Mountain Vista Greens Golf Course - ECPv4.4.4//NONSGML v1.0//EN
CALSCALE:GREGORIAN
METHOD:PUBLISH
X-WR-CALNAME:Mountain Vista Greens Golf Course
X-ORIGINAL-URL:http://www.adamdiel.com/mvg
X-WR-CALDESC:Events for Mountain Vista Greens Golf Course
BEGIN:VEVENT
DTSTART;TZID=UTC+0:20210619T073000
DTEND;TZID=UTC+0:20210619T130000
DTSTAMP:20260421T160012
CREATED:20210114T182915Z
LAST-MODIFIED:20210114T182915Z
UID:4263-1624087800-1624107600@www.adamdiel.com
SUMMARY:Double Play
DESCRIPTION:72 people\, 18 holes
URL:http://www.adamdiel.com/mvg/event/double-play/
CATEGORIES:Tournament
END:VEVENT
END:VCALENDAR