BEGIN:VCALENDAR
VERSION:2.0
PRODID:-//Mountain Vista Greens Golf Course - ECPv4.4.4//NONSGML v1.0//EN
CALSCALE:GREGORIAN
METHOD:PUBLISH
X-WR-CALNAME:Mountain Vista Greens Golf Course
X-ORIGINAL-URL:http://www.adamdiel.com/mvg
X-WR-CALDESC:Events for Mountain Vista Greens Golf Course
BEGIN:VEVENT
DTSTART;TZID=UTC+0:20190615T100000
DTEND;TZID=UTC+0:20190615T140000
DTSTAMP:20260423T110038
CREATED:20190222T172119Z
LAST-MODIFIED:20190222T172119Z
UID:3187-1560592800-1560607200@www.adamdiel.com
SUMMARY:Demo Day
DESCRIPTION:Callaway\, Ping\, TaylorMade\, Cleveland\, Mizuno
URL:http://www.adamdiel.com/mvg/event/demo-day-12/
CATEGORIES:Events
END:VEVENT
END:VCALENDAR