BEGIN:VCALENDAR
VERSION:2.0
PRODID:-//Mountain Vista Greens Golf Course - ECPv4.4.4//NONSGML v1.0//EN
CALSCALE:GREGORIAN
METHOD:PUBLISH
X-WR-CALNAME:Mountain Vista Greens Golf Course
X-ORIGINAL-URL:http://www.adamdiel.com/mvg
X-WR-CALDESC:Events for Mountain Vista Greens Golf Course
BEGIN:VEVENT
DTSTART;TZID=UTC+0:20200614T130000
DTEND;TZID=UTC+0:20200614T180000
DTSTAMP:20260422T112140
CREATED:20200524T205457Z
LAST-MODIFIED:20200524T205602Z
UID:3824-1592139600-1592157600@www.adamdiel.com
SUMMARY:Day Spring Church
DESCRIPTION:20 players\, 18 holes
URL:http://www.adamdiel.com/mvg/event/day-spring-church-2/
CATEGORIES:Tournament
END:VEVENT
END:VCALENDAR