BEGIN:VCALENDAR
VERSION:2.0
PRODID:-//Mountain Vista Greens Golf Course - ECPv4.4.4//NONSGML v1.0//EN
CALSCALE:GREGORIAN
METHOD:PUBLISH
X-WR-CALNAME:Mountain Vista Greens Golf Course
X-ORIGINAL-URL:http://www.adamdiel.com/mvg
X-WR-CALDESC:Events for Mountain Vista Greens Golf Course
BEGIN:VEVENT
DTSTART;TZID=UTC+0:20200828T080000
DTEND;TZID=UTC+0:20200828T140000
DTSTAMP:20260422T041835
CREATED:20200125T010943Z
LAST-MODIFIED:20200807T144535Z
UID:3700-1598601600-1598623200@www.adamdiel.com
SUMMARY:Budweiser
DESCRIPTION:44 players\, 18 holes
URL:http://www.adamdiel.com/mvg/event/budweiser/
CATEGORIES:Tournament
END:VEVENT
END:VCALENDAR