BEGIN:VCALENDAR
VERSION:2.0
PRODID:-//Mountain Vista Greens Golf Course - ECPv4.4.4//NONSGML v1.0//EN
CALSCALE:GREGORIAN
METHOD:PUBLISH
X-WR-CALNAME:Mountain Vista Greens Golf Course
X-ORIGINAL-URL:http://www.adamdiel.com/mvg
X-WR-CALDESC:Events for Mountain Vista Greens Golf Course
BEGIN:VEVENT
DTSTART;TZID=UTC+0:20180811T073000
DTEND;TZID=UTC+0:20180811T130000
DTSTAMP:20260423T230703
CREATED:20180310T162141Z
LAST-MODIFIED:20180322T210035Z
UID:2574-1533972600-1533992400@www.adamdiel.com
SUMMARY:Boys and Girls Club
DESCRIPTION:72 players\, 18 holes
URL:http://www.adamdiel.com/mvg/event/boys-girls-club-3/
CATEGORIES:Tournament
END:VEVENT
END:VCALENDAR