BEGIN:VCALENDAR
VERSION:2.0
PRODID:-//Mountain Vista Greens Golf Course - ECPv4.4.4//NONSGML v1.0//EN
CALSCALE:GREGORIAN
METHOD:PUBLISH
X-WR-CALNAME:Mountain Vista Greens Golf Course
X-ORIGINAL-URL:http://www.adamdiel.com/mvg
X-WR-CALDESC:Events for Mountain Vista Greens Golf Course
BEGIN:VEVENT
DTSTART;TZID=UTC+0:20180728T073000
DTEND;TZID=UTC+0:20180728T140000
DTSTAMP:20260424T055017
CREATED:20180702T202814Z
LAST-MODIFIED:20180702T202814Z
UID:2883-1532763000-1532786400@www.adamdiel.com
SUMMARY:4 Person Arizona Scramble
DESCRIPTION:72 players-18 holes
URL:http://www.adamdiel.com/mvg/event/4-person-arizona-scramble/
CATEGORIES:Tournament
END:VEVENT
END:VCALENDAR