BEGIN:VCALENDAR
VERSION:2.0
PRODID:-//Mountain Vista Greens Golf Course - ECPv4.4.4//NONSGML v1.0//EN
CALSCALE:GREGORIAN
METHOD:PUBLISH
X-WR-CALNAME:Mountain Vista Greens Golf Course
X-ORIGINAL-URL:http://www.adamdiel.com/mvg
X-WR-CALDESC:Events for Mountain Vista Greens Golf Course
BEGIN:VEVENT
DTSTART;TZID=UTC+0:20210612T073000
DTEND;TZID=UTC+0:20210612T103000
DTSTAMP:20260421T120034
CREATED:20210326T233531Z
LAST-MODIFIED:20210326T233603Z
UID:4291-1623483000-1623493800@www.adamdiel.com
SUMMARY:3 Hopeful Hearts
DESCRIPTION:60 players\, 9 holes
URL:http://www.adamdiel.com/mvg/event/3-hopeful-hearts-6/
CATEGORIES:Tournament
END:VEVENT
END:VCALENDAR