BEGIN:VCALENDAR
VERSION:2.0
PRODID:-//Mountain Vista Greens Golf Course - ECPv4.4.4//NONSGML v1.0//EN
CALSCALE:GREGORIAN
METHOD:PUBLISH
X-WR-CALNAME:Mountain Vista Greens Golf Course
X-ORIGINAL-URL:http://www.adamdiel.com/mvg
X-WR-CALDESC:Events for Mountain Vista Greens Golf Course
BEGIN:VEVENT
DTSTART;TZID=UTC+0:20200613T080000
DTEND;TZID=UTC+0:20200613T110000
DTSTAMP:20260422T110156
CREATED:20200125T005429Z
LAST-MODIFIED:20200125T005429Z
UID:3686-1592035200-1592046000@www.adamdiel.com
SUMMARY:3 Hopeful Hearts
DESCRIPTION:72 players\, 9 holes
URL:http://www.adamdiel.com/mvg/event/3-hopeful-hearts-5/
CATEGORIES:Tournament
END:VEVENT
END:VCALENDAR